BEGIN:VCALENDAR
VERSION:2.0
METHOD:PUBLISH
X-WR-CALNAME:TYPO3
X-ORIGINAL-URL:https://www.onconet-rhein-main.de/
PRODID:-//TYPO3/NONSGML News system (pgms)//DE
BEGIN:VEVENT
UID:news-28@
DTSTAMP:20260209T134402Z
DTSTART:20260520T170000Z
DTEND:20260520T210000Z
SUMMARY:ADCs – Die magische Kugel
DESCRIPTION:Online-Symposium aus dem ONRM-Studiowww.onco-topics.de
URL:https://www.onconet-rhein-main.de/veranstaltungen/detail/adcs-die-magische-kugel
ORGANIZER;CN=:MAILTO:
LOCATION:Online
END:VEVENT
END:VCALENDAR
